BEGIN:VCALENDAR
VERSION:2.0
PRODID:-//You Me And The Community - ECPv6.15.20//NONSGML v1.0//EN
CALSCALE:GREGORIAN
METHOD:PUBLISH
X-WR-CALNAME:You Me And The Community
X-ORIGINAL-URL:https://ymcommunity.com.au
X-WR-CALDESC:Events for You Me And The Community
REFRESH-INTERVAL;VALUE=DURATION:PT1H
X-Robots-Tag:noindex
X-PUBLISHED-TTL:PT1H
BEGIN:VTIMEZONE
TZID:Australia/Brisbane
BEGIN:STANDARD
TZOFFSETFROM:+1000
TZOFFSETTO:+1000
TZNAME:AEST
DTSTART:20250101T000000
END:STANDARD
END:VTIMEZONE
BEGIN:VEVENT
DTSTART;TZID=Australia/Brisbane:20260420T103000
DTEND;TZID=Australia/Brisbane:20260420T103000
DTSTAMP:20260420T075111
CREATED:20260206T060207Z
LAST-MODIFIED:20260401T024327Z
UID:10005081-1776681000-1776681000@ymcommunity.com.au
SUMMARY:Board Games
DESCRIPTION:Board Games in Ipswich is a great way to enjoy friendly fun\, connection\, and laughter with family and friends. Join us for an inclusive community session filled with classic games and good times. Book now and play with us.
URL:https://ymcommunity.com.au/event/board-games-6/
LOCATION:The Legacy Hub\, Nicholas Street Precinct\, Lower Ground\, 143 Brisbane Street\, Ipswich\, Queensland\, 4305\, Australia
CATEGORIES:Games
ORGANIZER;CN="Tyler Jones":MAILTO:Info@ymcommunity.com.au
END:VEVENT
BEGIN:VEVENT
DTSTART;TZID=Australia/Brisbane:20260420T123000
DTEND;TZID=Australia/Brisbane:20260420T123000
DTSTAMP:20260420T075111
CREATED:20260206T060207Z
LAST-MODIFIED:20260401T024421Z
UID:10005082-1776688200-1776688200@ymcommunity.com.au
SUMMARY:Sponge Stamps
DESCRIPTION:Sponge Stamps in Ipswich is a fun and messy art activity perfect for creative kids during the school holidays. Enjoy hands-on painting and colourful fun in a supportive\, all-abilities environment. Register today and get stamping.
URL:https://ymcommunity.com.au/event/sponge-stamps/
LOCATION:The Legacy Hub\, Nicholas Street Precinct\, Lower Ground\, 143 Brisbane Street\, Ipswich\, Queensland\, 4305\, Australia
CATEGORIES:Craft
ORGANIZER;CN="Tyler Jones":MAILTO:Info@ymcommunity.com.au
END:VEVENT
BEGIN:VEVENT
DTSTART;TZID=Australia/Brisbane:20260420T153000
DTEND;TZID=Australia/Brisbane:20260420T153000
DTSTAMP:20260420T075111
CREATED:20260206T060312Z
LAST-MODIFIED:20260401T024451Z
UID:10005083-1776699000-1776699000@ymcommunity.com.au
SUMMARY:Ping Pong Tournament
DESCRIPTION:Ping Pong Tournament in Ipswich brings friendly competition\, fast-paced fun\, and community connection together in one exciting event. Perfect for all skill levels and all abilities at The Legacy Hub. Book now and join the tournament.
URL:https://ymcommunity.com.au/event/ping-pong-tournament-3/
LOCATION:The Legacy Hub\, Nicholas Street Precinct\, Lower Ground\, 143 Brisbane Street\, Ipswich\, Queensland\, 4305\, Australia
CATEGORIES:Movement
ORGANIZER;CN="Tyler Jones":MAILTO:Info@ymcommunity.com.au
END:VEVENT
END:VCALENDAR