BEGIN:VCALENDAR
VERSION:2.0
PRODID:-//You Me And The Community - ECPv6.15.20//NONSGML v1.0//EN
CALSCALE:GREGORIAN
METHOD:PUBLISH
X-WR-CALNAME:You Me And The Community
X-ORIGINAL-URL:https://ymcommunity.com.au
X-WR-CALDESC:Events for You Me And The Community
REFRESH-INTERVAL;VALUE=DURATION:PT1H
X-Robots-Tag:noindex
X-PUBLISHED-TTL:PT1H
BEGIN:VTIMEZONE
TZID:Australia/Brisbane
BEGIN:STANDARD
TZOFFSETFROM:+1000
TZOFFSETTO:+1000
TZNAME:AEST
DTSTART:20250101T000000
END:STANDARD
END:VTIMEZONE
BEGIN:VEVENT
DTSTART;TZID=Australia/Brisbane:20260423T103000
DTEND;TZID=Australia/Brisbane:20260423T103000
DTSTAMP:20260423T201542
CREATED:20260206T060327Z
LAST-MODIFIED:20260401T052929Z
UID:10005090-1776940200-1776940200@ymcommunity.com.au
SUMMARY:Decorate a LEGO Character
DESCRIPTION:Decorate a LEGO Character in Ipswich is a fun craft activity where kids can personalise their own creation and enjoy hands-on school holiday fun. Perfect for imagination\, creativity\, and all-abilities participation. Register today and get creative with us.
URL:https://ymcommunity.com.au/event/decorate-a-lego-character/
LOCATION:The Legacy Hub\, Nicholas Street Precinct\, Lower Ground\, 143 Brisbane Street\, Ipswich\, Queensland\, 4305\, Australia
CATEGORIES:Craft
ORGANIZER;CN="Tyler Jones":MAILTO:Info@ymcommunity.com.au
END:VEVENT
BEGIN:VEVENT
DTSTART;TZID=Australia/Brisbane:20260423T123000
DTEND;TZID=Australia/Brisbane:20260423T123000
DTSTAMP:20260423T201542
CREATED:20260206T060327Z
LAST-MODIFIED:20260401T052959Z
UID:10005091-1776947400-1776947400@ymcommunity.com.au
SUMMARY:Pool Tournament
DESCRIPTION:Pool Tournament in Ipswich is a fun community event for friendly competition\, skill-building\, and connection in a relaxed setting. Great for all abilities and anyone who enjoys a challenge. Book now and join the game at The Legacy Hub.
URL:https://ymcommunity.com.au/event/pool-tournament-5/
LOCATION:The Legacy Hub\, Nicholas Street Precinct\, Lower Ground\, 143 Brisbane Street\, Ipswich\, Queensland\, 4305\, Australia
CATEGORIES:Movement
ORGANIZER;CN="Tyler Jones":MAILTO:Info@ymcommunity.com.au
END:VEVENT
BEGIN:VEVENT
DTSTART;TZID=Australia/Brisbane:20260423T153000
DTEND;TZID=Australia/Brisbane:20260423T153000
DTSTAMP:20260423T201542
CREATED:20260206T060327Z
LAST-MODIFIED:20260401T053026Z
UID:10005092-1776958200-1776958200@ymcommunity.com.au
SUMMARY:Movie Afternoon
DESCRIPTION:Movie Afternoon in Ipswich is a relaxed and welcoming event where families and kids can unwind\, connect\, and enjoy a fun film together. It’s the perfect low-key school holiday activity. Register now and save your seat.
URL:https://ymcommunity.com.au/event/movie-afternoon/
LOCATION:The Legacy Hub\, Nicholas Street Precinct\, Lower Ground\, 143 Brisbane Street\, Ipswich\, Queensland\, 4305\, Australia
CATEGORIES:Social
ORGANIZER;CN="Tyler Jones":MAILTO:Info@ymcommunity.com.au
END:VEVENT
END:VCALENDAR