BEGIN:VCALENDAR
VERSION:2.0
PRODID:-//You Me And The Community - ECPv6.15.20//NONSGML v1.0//EN
CALSCALE:GREGORIAN
METHOD:PUBLISH
X-WR-CALNAME:You Me And The Community
X-ORIGINAL-URL:https://ymcommunity.com.au
X-WR-CALDESC:Events for You Me And The Community
REFRESH-INTERVAL;VALUE=DURATION:PT1H
X-Robots-Tag:noindex
X-PUBLISHED-TTL:PT1H
BEGIN:VTIMEZONE
TZID:Australia/Brisbane
BEGIN:STANDARD
TZOFFSETFROM:+1000
TZOFFSETTO:+1000
TZNAME:AEST
DTSTART:20250101T000000
END:STANDARD
END:VTIMEZONE
BEGIN:VEVENT
DTSTART;TZID=Australia/Brisbane:20260424T103000
DTEND;TZID=Australia/Brisbane:20260424T103000
DTSTAMP:20260424T020753
CREATED:20260206T060343Z
LAST-MODIFIED:20260401T052642Z
UID:10005093-1777026600-1777026600@ymcommunity.com.au
SUMMARY:Draw a Comic Strip
DESCRIPTION:Draw a Comic Strip in Ipswich is a creative activity where kids can bring stories\, characters\, and big ideas to life. Enjoy a fun and inclusive art session during the school holidays. Book now and start creating your comic.
URL:https://ymcommunity.com.au/event/draw-a-comic-strip/
LOCATION:The Legacy Hub\, Nicholas Street Precinct\, Lower Ground\, 143 Brisbane Street\, Ipswich\, Queensland\, 4305\, Australia
CATEGORIES:Craft
ORGANIZER;CN="Tyler Jones":MAILTO:Info@ymcommunity.com.au
END:VEVENT
BEGIN:VEVENT
DTSTART;TZID=Australia/Brisbane:20260424T123000
DTEND;TZID=Australia/Brisbane:20260424T123000
DTSTAMP:20260424T020753
CREATED:20260206T060343Z
LAST-MODIFIED:20260401T052707Z
UID:10005094-1777033800-1777033800@ymcommunity.com.au
SUMMARY:Bingo
DESCRIPTION:Bingo in Ipswich is a classic community favourite filled with fun\, excitement\, and shared laughter for all ages and abilities. Join us for a welcoming game session at The Legacy Hub. Register now and join the fun.
URL:https://ymcommunity.com.au/event/bingo-6/
LOCATION:The Legacy Hub\, Nicholas Street Precinct\, Lower Ground\, 143 Brisbane Street\, Ipswich\, Queensland\, 4305\, Australia
CATEGORIES:Games
ORGANIZER;CN="Tyler Jones":MAILTO:Info@ymcommunity.com.au
END:VEVENT
BEGIN:VEVENT
DTSTART;TZID=Australia/Brisbane:20260424T153000
DTEND;TZID=Australia/Brisbane:20260424T153000
DTSTAMP:20260424T020753
CREATED:20260206T060343Z
LAST-MODIFIED:20260401T052735Z
UID:10005095-1777044600-1777044600@ymcommunity.com.au
SUMMARY:Cup Stacking
DESCRIPTION:Cup Stacking in Ipswich is a fast and fun school holiday challenge that builds focus\, coordination\, and plenty of laughs. It’s a great all-abilities activity for kids who love a challenge. Book now and see how fast you can stack.
URL:https://ymcommunity.com.au/event/cup-stacking/
LOCATION:The Legacy Hub\, Nicholas Street Precinct\, Lower Ground\, 143 Brisbane Street\, Ipswich\, Queensland\, 4305\, Australia
CATEGORIES:Social
ORGANIZER;CN="Tyler Jones":MAILTO:Info@ymcommunity.com.au
END:VEVENT
BEGIN:VEVENT
DTSTART;TZID=Australia/Brisbane:20260424T180000
DTEND;TZID=Australia/Brisbane:20260424T180000
DTSTAMP:20260424T020753
CREATED:20260206T060343Z
LAST-MODIFIED:20260401T052900Z
UID:10005096-1777053600-1777053600@ymcommunity.com.au
SUMMARY:Freeze Dance!
DESCRIPTION:Freeze Dance in Ipswich is a high-energy school holiday activity full of music\, movement\, and laughter for kids of all abilities. Join us for a fun\, inclusive session at The Legacy Hub. Register now and dance with us.
URL:https://ymcommunity.com.au/event/freeze-dance-2/
LOCATION:The Legacy Hub\, Nicholas Street Precinct\, Lower Ground\, 143 Brisbane Street\, Ipswich\, Queensland\, 4305\, Australia
CATEGORIES:Movement
ORGANIZER;CN="Tyler Jones":MAILTO:Info@ymcommunity.com.au
END:VEVENT
END:VCALENDAR