BEGIN:VCALENDAR
VERSION:2.0
PRODID:-//You Me And The Community - ECPv6.15.20//NONSGML v1.0//EN
CALSCALE:GREGORIAN
METHOD:PUBLISH
X-WR-CALNAME:You Me And The Community
X-ORIGINAL-URL:https://ymcommunity.com.au
X-WR-CALDESC:Events for You Me And The Community
REFRESH-INTERVAL;VALUE=DURATION:PT1H
X-Robots-Tag:noindex
X-PUBLISHED-TTL:PT1H
BEGIN:VTIMEZONE
TZID:Australia/Brisbane
BEGIN:STANDARD
TZOFFSETFROM:+1000
TZOFFSETTO:+1000
TZNAME:AEST
DTSTART:20250101T000000
END:STANDARD
END:VTIMEZONE
BEGIN:VEVENT
DTSTART;VALUE=DATE:20260417
DTEND;VALUE=DATE:20260418
DTSTAMP:20260420T124103
CREATED:20260219T042200Z
LAST-MODIFIED:20260223T014024Z
UID:10005208-1776384000-1776470399@ymcommunity.com.au
SUMMARY:Tote bag Tie Dye
DESCRIPTION:Brighten up your day with our Tote Bag Tie Dye! This fun\, hands-on activity lets you create your own unique\, colourful pattern on a sturdy cotton tote bag — perfect for carrying your essentials in style. Each design is one-of-a-kind\, just like you!
URL:https://ymcommunity.com.au/event/tote-bag-tie-dye/
LOCATION:The Legacy Hub\, Nicholas Street Precinct\, Lower Ground\, 143 Brisbane Street\, Ipswich\, Queensland\, 4305\, Australia
END:VEVENT
BEGIN:VEVENT
DTSTART;VALUE=DATE:20260417
DTEND;VALUE=DATE:20260418
DTSTAMP:20260420T124103
CREATED:20260219T042126Z
LAST-MODIFIED:20260224T044141Z
UID:10005207-1776384000-1776470399@ymcommunity.com.au
SUMMARY:Tie Dye fun
DESCRIPTION:Get ready to create your very own colourful masterpieces! On Tie Dye Fun Day\, you’ll learn how to make vibrant patterns on t-shirts\, tote bags\, and more. Twist\, fold\, and squirt your way\nto unique designs\, then take home your wearable art to show off your creativity. It’s messy\, bright\, and loads of fun — perfect for anyone who loves colour and hands-on creativity!
URL:https://ymcommunity.com.au/event/tie-dye-fun/
LOCATION:The Legacy Hub\, Nicholas Street Precinct\, Lower Ground\, 143 Brisbane Street\, Ipswich\, Queensland\, 4305\, Australia
ORGANIZER;CN="Tyler Jones":MAILTO:Info@ymcommunity.com.au
END:VEVENT
BEGIN:VEVENT
DTSTART;VALUE=DATE:20260416
DTEND;VALUE=DATE:20260417
DTSTAMP:20260420T124103
CREATED:20260219T042027Z
LAST-MODIFIED:20260224T044148Z
UID:10005206-1776297600-1776383999@ymcommunity.com.au
SUMMARY:VR Games
DESCRIPTION:Step into a world of adventure and excitement with our VR Games Day! We have 2 VR machines available\, so you can challenge your friends in action-packed games and explore incredible virtual worlds. Sessions start from just $5 for 5 minutes\, making it fun\, fast\, and accessible for everyone. Get ready for epic quests\, friendly competition\, and plenty of laughs
URL:https://ymcommunity.com.au/event/vr-games/
LOCATION:The Legacy Hub\, Nicholas Street Precinct\, Lower Ground\, 143 Brisbane Street\, Ipswich\, Queensland\, 4305\, Australia
ORGANIZER;CN="Tyler Jones":MAILTO:Info@ymcommunity.com.au
END:VEVENT
BEGIN:VEVENT
DTSTART;VALUE=DATE:20260415
DTEND;VALUE=DATE:20260416
DTSTAMP:20260420T124103
CREATED:20260219T041946Z
LAST-MODIFIED:20260224T044158Z
UID:10005205-1776211200-1776297599@ymcommunity.com.au
SUMMARY:Tissue Paper Flowers
DESCRIPTION:Using tissue paper and pipe cleaners\, stack and fold to create beautiful flowers
URL:https://ymcommunity.com.au/event/tissue-paper-flowers/
LOCATION:The Legacy Hub\, Nicholas Street Precinct\, Lower Ground\, 143 Brisbane Street\, Ipswich\, Queensland\, 4305\, Australia
ORGANIZER;CN="Tyler Jones":MAILTO:Info@ymcommunity.com.au
END:VEVENT
BEGIN:VEVENT
DTSTART;VALUE=DATE:20260415
DTEND;VALUE=DATE:20260416
DTSTAMP:20260420T124103
CREATED:20260219T041901Z
LAST-MODIFIED:20260401T024258Z
UID:10005204-1776211200-1776297599@ymcommunity.com.au
SUMMARY:Paint Your Own Mug
DESCRIPTION:Paint Your Own Mug in Ipswich is a hands-on art activity where kids and families can get creative and make something special to take home. Enjoy a fun\, inclusive session at The Legacy Hub. Register now and save your place.
URL:https://ymcommunity.com.au/event/paint-your-own-mug/
LOCATION:The Legacy Hub\, Nicholas Street Precinct\, Lower Ground\, 143 Brisbane Street\, Ipswich\, Queensland\, 4305\, Australia
ORGANIZER;CN="Tyler Jones":MAILTO:Info@ymcommunity.com.au
END:VEVENT
BEGIN:VEVENT
DTSTART;VALUE=DATE:20260415
DTEND;VALUE=DATE:20260416
DTSTAMP:20260420T124103
CREATED:20260219T041835Z
LAST-MODIFIED:20260224T043859Z
UID:10005203-1776211200-1776297599@ymcommunity.com.au
SUMMARY:Messy Play Stations
DESCRIPTION:Station 1 Shaving Cream and food colouring\nStation 2 Kinetic Sand and Toy Animals\nStation 3 Pom Poms\, Tissue Paper\, Pipe Cleaners
URL:https://ymcommunity.com.au/event/messy-play-stations/
LOCATION:The Legacy Hub\, Nicholas Street Precinct\, Lower Ground\, 143 Brisbane Street\, Ipswich\, Queensland\, 4305\, Australia
ORGANIZER;CN="Tyler Jones":MAILTO:Info@ymcommunity.com.au
END:VEVENT
BEGIN:VEVENT
DTSTART;VALUE=DATE:20260415
DTEND;VALUE=DATE:20260416
DTSTAMP:20260420T124103
CREATED:20260219T041647Z
LAST-MODIFIED:20260224T043918Z
UID:10005202-1776211200-1776297599@ymcommunity.com.au
SUMMARY:Art/craft day
DESCRIPTION:Unleash your creativity and let your imagination run wild! On Art & Craft Day\, we’ll be painting\, crafting\, and creating all sorts of colourful masterpieces. From messy fun to detailed designs\, there’s something for every young artist to enjoy. Bring your ideas\, make new friends\, and take home your very own works of art!
URL:https://ymcommunity.com.au/event/art-craft-day/
LOCATION:The Legacy Hub\, Nicholas Street Precinct\, Lower Ground\, 143 Brisbane Street\, Ipswich\, Queensland\, 4305\, Australia
ORGANIZER;CN="Tyler Jones":MAILTO:Info@ymcommunity.com.au
END:VEVENT
BEGIN:VEVENT
DTSTART;VALUE=DATE:20260414
DTEND;VALUE=DATE:20260415
DTSTAMP:20260420T124103
CREATED:20260219T041407Z
LAST-MODIFIED:20260224T043830Z
UID:10005201-1776124800-1776211199@ymcommunity.com.au
SUMMARY:Walking Water
DESCRIPTION:6 cups in a circle with water\, add in different coloured food colouring and put a piece of folded paper towel in each and watch the colours “walk”
URL:https://ymcommunity.com.au/event/walking-water/
LOCATION:The Legacy Hub\, Nicholas Street Precinct\, Lower Ground\, 143 Brisbane Street\, Ipswich\, Queensland\, 4305\, Australia
ORGANIZER;CN="Tyler Jones":MAILTO:Info@ymcommunity.com.au
END:VEVENT
BEGIN:VEVENT
DTSTART;VALUE=DATE:20260414
DTEND;VALUE=DATE:20260415
DTSTAMP:20260420T124103
CREATED:20260219T041341Z
LAST-MODIFIED:20260224T043823Z
UID:10005200-1776124800-1776211199@ymcommunity.com.au
SUMMARY:Salt Painting
DESCRIPTION:On a paper plate\, draw something with glue and cover it in salt\, once done use watercolours to paint the sale and watch the colours move.
URL:https://ymcommunity.com.au/event/salt-painting/
LOCATION:The Legacy Hub\, Nicholas Street Precinct\, Lower Ground\, 143 Brisbane Street\, Ipswich\, Queensland\, 4305\, Australia
ORGANIZER;CN="Tyler Jones":MAILTO:Info@ymcommunity.com.au
END:VEVENT
BEGIN:VEVENT
DTSTART;VALUE=DATE:20260414
DTEND;VALUE=DATE:20260415
DTSTAMP:20260420T124103
CREATED:20260219T041310Z
LAST-MODIFIED:20260224T043815Z
UID:10005199-1776124800-1776211199@ymcommunity.com.au
SUMMARY:DIY Volcano
DESCRIPTION:To make a DIY volcano\, build a mountain shape around a small cup or bottle using playdough\, clay\, or paper. Put a few spoonfuls of baking soda inside the cup. Then pour in some vinegar with a drop of food colouring. It will fizz and bubble over like lava\,just like a real volcano eruption.
URL:https://ymcommunity.com.au/event/diy-volcano/
LOCATION:The Legacy Hub\, Nicholas Street Precinct\, Lower Ground\, 143 Brisbane Street\, Ipswich\, Queensland\, 4305\, Australia
ORGANIZER;CN="Tyler Jones":MAILTO:Info@ymcommunity.com.au
END:VEVENT
BEGIN:VEVENT
DTSTART;VALUE=DATE:20260414
DTEND;VALUE=DATE:20260415
DTSTAMP:20260420T124103
CREATED:20260219T040525Z
LAST-MODIFIED:20260224T043807Z
UID:10005198-1776124800-1776211199@ymcommunity.com.au
SUMMARY:Science Fun
DESCRIPTION:Get ready to mix\, stir\, and explore — it’s Science Fun Day at the hub! From bubbling experiments to hands-on activities\, we’ll spark curiosity and excitement as we discover the magic of science. Test your wacky ideas\, make cool creations\, and see science come to life in the most fun and safe way possible. Prepare to be amazed\, learn something new\, and have a blast with friends!
URL:https://ymcommunity.com.au/event/science-fun/
LOCATION:The Legacy Hub\, Nicholas Street Precinct\, Lower Ground\, 143 Brisbane Street\, Ipswich\, Queensland\, 4305\, Australia
ORGANIZER;CN="Tyler Jones":MAILTO:Info@ymcommunity.com.au
END:VEVENT
BEGIN:VEVENT
DTSTART;VALUE=DATE:20260413
DTEND;VALUE=DATE:20260414
DTSTAMP:20260420T124103
CREATED:20260219T040429Z
LAST-MODIFIED:20260401T024129Z
UID:10005197-1776038400-1776124799@ymcommunity.com.au
SUMMARY:Paint a Hot Air Balloon (UP)
DESCRIPTION:Hot air balloon painting in Ipswich is a creative school holiday activity inspired by adventure\, colour\, and imagination. Perfect for kids and families wanting a fun\, relaxed session together. Book your spot today and join the fun.
URL:https://ymcommunity.com.au/event/paint-a-hot-air-balloon-up/
LOCATION:The Legacy Hub\, Nicholas Street Precinct\, Lower Ground\, 143 Brisbane Street\, Ipswich\, Queensland\, 4305\, Australia
ORGANIZER;CN="Tyler Jones":MAILTO:Info@ymcommunity.com.au
END:VEVENT
BEGIN:VEVENT
DTSTART;VALUE=DATE:20260413
DTEND;VALUE=DATE:20260414
DTSTAMP:20260420T124103
CREATED:20260219T040406Z
LAST-MODIFIED:20260401T024122Z
UID:10005196-1776038400-1776124799@ymcommunity.com.au
SUMMARY:Paint a Coral Reef (Finding Nemo)
DESCRIPTION:Finding Nemo coral reef painting in Ipswich is a colourful art activity for kids who love creativity and ocean-themed fun. Create your own underwater masterpiece in an inclusive community space. Register now and paint with us.
URL:https://ymcommunity.com.au/event/paint-a-coral-reef-finding-nemo/
LOCATION:The Legacy Hub\, Nicholas Street Precinct\, Lower Ground\, 143 Brisbane Street\, Ipswich\, Queensland\, 4305\, Australia
ORGANIZER;CN="Tyler Jones":MAILTO:Info@ymcommunity.com.au
END:VEVENT
BEGIN:VEVENT
DTSTART;TZID=Australia/Brisbane:20260409T130000
DTEND;TZID=Australia/Brisbane:20260409T170000
DTSTAMP:20260420T124103
CREATED:20260219T033605Z
LAST-MODIFIED:20260401T023754Z
UID:10005193-1775739600-1775754000@ymcommunity.com.au
SUMMARY:Red Light Green Light
DESCRIPTION:Red Light Green Light in Ipswich is a fun active game for kids and families looking for school holiday excitement. Enjoy movement\, laughter\, and all-abilities fun in a safe\, welcoming space. Book now and join the action at The Legacy Hub.
URL:https://ymcommunity.com.au/event/red-light-green-light-2/
LOCATION:The Legacy Hub\, Nicholas Street Precinct\, Lower Ground\, 143 Brisbane Street\, Ipswich\, Queensland\, 4305\, Australia
CATEGORIES:Social
ORGANIZER;CN="Tyler Jones":MAILTO:Info@ymcommunity.com.au
END:VEVENT
BEGIN:VEVENT
DTSTART;TZID=Australia/Brisbane:20260409T130000
DTEND;TZID=Australia/Brisbane:20260409T170000
DTSTAMP:20260420T124103
CREATED:20260219T033539Z
LAST-MODIFIED:20260401T021910Z
UID:10005192-1775739600-1775754000@ymcommunity.com.au
SUMMARY:Just Dance
DESCRIPTION:Just Dance in Ipswich is a high-energy inclusive activity where kids\, families\, and community members can move\, laugh\, and have fun together. It’s the perfect school holiday event for all abilities. Register now and dance it out with us.
URL:https://ymcommunity.com.au/event/just-dance-2/
LOCATION:The Legacy Hub\, Nicholas Street Precinct\, Lower Ground\, 143 Brisbane Street\, Ipswich\, Queensland\, 4305\, Australia
CATEGORIES:Movement
ORGANIZER;CN="Tyler Jones":MAILTO:Info@ymcommunity.com.au
END:VEVENT
BEGIN:VEVENT
DTSTART;TZID=Australia/Brisbane:20260409T100000
DTEND;TZID=Australia/Brisbane:20260409T120000
DTSTAMP:20260420T124103
CREATED:20260219T033443Z
LAST-MODIFIED:20260224T043435Z
UID:10005191-1775728800-1775736000@ymcommunity.com.au
SUMMARY:Boccia come and try
DESCRIPTION:Join us for a fun and active morning with our Boccia Come & Try session! Designed for all skill levels\, this program is part of the Active & Healthy School Holiday Program with Ipswich\nCouncil. Learn the basics\, test your skills\, and enjoy friendly competition in a safe and supportive environment.
URL:https://ymcommunity.com.au/event/boccia-come-and-try/
LOCATION:The Legacy Hub\, Nicholas Street Precinct\, Lower Ground\, 143 Brisbane Street\, Ipswich\, Queensland\, 4305\, Australia
ATTACH;FMTTYPE=image/png:https://ymcommunity.com.au/wp-content/uploads/2026/02/boccia-1.png
ORGANIZER;CN="Tyler Jones":MAILTO:Info@ymcommunity.com.au
END:VEVENT
BEGIN:VEVENT
DTSTART;VALUE=DATE:20260408
DTEND;VALUE=DATE:20260409
DTSTAMP:20260420T124103
CREATED:20260219T033144Z
LAST-MODIFIED:20260224T044353Z
UID:10005190-1775606400-1775692799@ymcommunity.com.au
SUMMARY:DIY rain sticks or shakers
DESCRIPTION:Fill tubes with rice\, beads\, or pasta and create soothing sounds.
URL:https://ymcommunity.com.au/event/diy-rain-sticks-or-shakers/
LOCATION:The Legacy Hub\, Nicholas Street Precinct\, Lower Ground\, 143 Brisbane Street\, Ipswich\, Queensland\, 4305\, Australia
ORGANIZER;CN="Tyler Jones":MAILTO:Info@ymcommunity.com.au
END:VEVENT
BEGIN:VEVENT
DTSTART;VALUE=DATE:20260408
DTEND;VALUE=DATE:20260409
DTSTAMP:20260420T124103
CREATED:20260219T032824Z
LAST-MODIFIED:20260224T044357Z
UID:10005189-1775606400-1775692799@ymcommunity.com.au
SUMMARY:Bubble painting
DESCRIPTION:Blow coloured bubbles onto paper for unpredictable\, fun patterns.
URL:https://ymcommunity.com.au/event/bubble-painting/
LOCATION:The Legacy Hub\, Nicholas Street Precinct\, Lower Ground\, 143 Brisbane Street\, Ipswich\, Queensland\, 4305\, Australia
ORGANIZER;CN="Tyler Jones":MAILTO:Info@ymcommunity.com.au
END:VEVENT
BEGIN:VEVENT
DTSTART;VALUE=DATE:20260408
DTEND;VALUE=DATE:20260409
DTSTAMP:20260420T124103
CREATED:20260219T032654Z
LAST-MODIFIED:20260224T044331Z
UID:10005188-1775606400-1775692799@ymcommunity.com.au
SUMMARY:DIY Slime
DESCRIPTION:To make DIY slime\, mix some glue and a few drops of food colouring in a bowl. Then slowly add a little bit of liquid starch or baking soda with contact lens solution\, stirring as you go. Keep\nmixing until it becomes stretchy and gooey—then you can play with your slime!
URL:https://ymcommunity.com.au/event/diy-slime-2/
LOCATION:The Legacy Hub\, Nicholas Street Precinct\, Lower Ground\, 143 Brisbane Street\, Ipswich\, Queensland\, 4305\, Australia
ORGANIZER;CN="Tyler Jones":MAILTO:Info@ymcommunity.com.au
END:VEVENT
BEGIN:VEVENT
DTSTART;VALUE=DATE:20260408
DTEND;VALUE=DATE:20260409
DTSTAMP:20260420T124103
CREATED:20260219T031624Z
LAST-MODIFIED:20260224T044323Z
UID:10005187-1775606400-1775692799@ymcommunity.com.au
SUMMARY:Sensory Day
DESCRIPTION:Step into a world of discovery and fun on Sensory Day! Explore a range of activities designed to engage your senses — from tactile play and colourful lights to calming textures and interactive stations. It’s a hands-on\, playful experience that encourages curiosity\, creativity\, and relaxation for all ages. Come along\, explore\, and enjoy a day full of sensory surprises!
URL:https://ymcommunity.com.au/event/sensory-day/
LOCATION:The Legacy Hub\, Nicholas Street Precinct\, Lower Ground\, 143 Brisbane Street\, Ipswich\, Queensland\, 4305\, Australia
ORGANIZER;CN="Tyler Jones":MAILTO:Info@ymcommunity.com.au
END:VEVENT
BEGIN:VEVENT
DTSTART;VALUE=DATE:20260407
DTEND;VALUE=DATE:20260408
DTSTAMP:20260420T124103
CREATED:20260219T031233Z
LAST-MODIFIED:20260224T044309Z
UID:10005186-1775520000-1775606399@ymcommunity.com.au
SUMMARY:Friendship Bracelets
DESCRIPTION:To make DIY friendship bracelets with beads\, cut some colourful string or embroidery floss and tie a knot at one end. Thread beads onto the strings in any pattern. When it’s long enough\, tie a knot at the end\, and your bracelet is ready to give to a friend!
URL:https://ymcommunity.com.au/event/friendship-bracelets-3/
LOCATION:The Legacy Hub\, Nicholas Street Precinct\, Lower Ground\, 143 Brisbane Street\, Ipswich\, Queensland\, 4305\, Australia
ORGANIZER;CN="Tyler Jones":MAILTO:Info@ymcommunity.com.au
END:VEVENT
BEGIN:VEVENT
DTSTART;VALUE=DATE:20260407
DTEND;VALUE=DATE:20260408
DTSTAMP:20260420T124103
CREATED:20260219T030839Z
LAST-MODIFIED:20260224T044305Z
UID:10005185-1775520000-1775606399@ymcommunity.com.au
SUMMARY:Vision Board making
DESCRIPTION:To make a DIY vision board\, grab a board or piece of cardboard and some magazines\, photos\, or printouts. Cut out pictures and words that show your goals and dreams\, then glue or tape them onto the board. Hang it somewhere you can see it every day to stay inspired!
URL:https://ymcommunity.com.au/event/vision-board-making/
LOCATION:The Legacy Hub\, Nicholas Street Precinct\, Lower Ground\, 143 Brisbane Street\, Ipswich\, Queensland\, 4305\, Australia
ORGANIZER;CN="Tyler Jones":MAILTO:Info@ymcommunity.com.au
END:VEVENT
BEGIN:VEVENT
DTSTART;VALUE=DATE:20260407
DTEND;VALUE=DATE:20260408
DTSTAMP:20260420T124103
CREATED:20260219T030545Z
LAST-MODIFIED:20260224T044253Z
UID:10005184-1775520000-1775606399@ymcommunity.com.au
SUMMARY:DIY Mindful Jar
DESCRIPTION:Fill a jar with water and glitter\, shake it\, participants “pretend” the shaken glitter is their stress and thoughts and watching the water calm down it also helps calm their thoughts.
URL:https://ymcommunity.com.au/event/diy-mindful-jar/
LOCATION:The Legacy Hub\, Nicholas Street Precinct\, Lower Ground\, 143 Brisbane Street\, Ipswich\, Queensland\, 4305\, Australia
ORGANIZER;CN="Tyler Jones":MAILTO:Info@ymcommunity.com.au
END:VEVENT
BEGIN:VEVENT
DTSTART;VALUE=DATE:20260407
DTEND;VALUE=DATE:20260408
DTSTAMP:20260420T124103
CREATED:20260219T030441Z
LAST-MODIFIED:20260224T044242Z
UID:10005183-1775520000-1775606399@ymcommunity.com.au
SUMMARY:Wellbeing Day
DESCRIPTION:Take a break\, recharge\, and focus on feeling your best at our Wellbeing Day! This special day is all about building confidence\, connection\, and positive vibes. Enjoy calming activities like mindfulness sessions and creative expression\, along with fun team-building games that boost self-esteem and friendships.
URL:https://ymcommunity.com.au/event/wellbeing-day/
LOCATION:The Legacy Hub\, Nicholas Street Precinct\, Lower Ground\, 143 Brisbane Street\, Ipswich\, Queensland\, 4305\, Australia
ORGANIZER;CN="Tyler Jones":MAILTO:Info@ymcommunity.com.au
END:VEVENT
BEGIN:VEVENT
DTSTART;TZID=Australia/Brisbane:20260402T153000
DTEND;TZID=Australia/Brisbane:20260402T153000
DTSTAMP:20260420T124103
CREATED:20260206T060207Z
LAST-MODIFIED:20260401T021838Z
UID:10005079-1775143800-1775143800@ymcommunity.com.au
SUMMARY:Just Dance
DESCRIPTION:Just Dance in Ipswich is a high-energy inclusive activity where kids\, families\, and community members can move\, laugh\, and have fun together. It’s the perfect school holiday event for all abilities. Register now and dance it out with us.
URL:https://ymcommunity.com.au/event/just-dance-4/
LOCATION:The Legacy Hub\, Nicholas Street Precinct\, Lower Ground\, 143 Brisbane Street\, Ipswich\, Queensland\, 4305\, Australia
CATEGORIES:Movement
ORGANIZER;CN="Tyler Jones":MAILTO:Info@ymcommunity.com.au
END:VEVENT
END:VCALENDAR