BEGIN:VCALENDAR
VERSION:2.0
PRODID:-//You Me And The Community - ECPv6.15.20//NONSGML v1.0//EN
CALSCALE:GREGORIAN
METHOD:PUBLISH
X-WR-CALNAME:You Me And The Community
X-ORIGINAL-URL:https://ymcommunity.com.au
X-WR-CALDESC:Events for You Me And The Community
REFRESH-INTERVAL;VALUE=DURATION:PT1H
X-Robots-Tag:noindex
X-PUBLISHED-TTL:PT1H
BEGIN:VTIMEZONE
TZID:Australia/Brisbane
BEGIN:STANDARD
TZOFFSETFROM:+1000
TZOFFSETTO:+1000
TZNAME:AEST
DTSTART:20250101T000000
END:STANDARD
END:VTIMEZONE
BEGIN:VEVENT
DTSTART;TZID=Australia/Brisbane:20260403T000000
DTEND;TZID=Australia/Brisbane:20260403T000000
DTSTAMP:20260424T022534
CREATED:20260206T060207Z
LAST-MODIFIED:20260401T020224Z
UID:3985-1775174400-1775174400@ymcommunity.com.au
SUMMARY:Closed for Easter
DESCRIPTION:Closed for Easter at The Legacy Hub in Ipswich means our team is taking a short break while we prepare for more inclusive community activities and school holiday fun. We look forward to welcoming you back soon. Check our upcoming events and plan your next visit.
URL:https://ymcommunity.com.au/event/closed-for-easter/
CATEGORIES:Social
END:VEVENT
END:VCALENDAR