BEGIN:VCALENDAR
VERSION:2.0
PRODID:-//You Me And The Community - ECPv6.15.20//NONSGML v1.0//EN
CALSCALE:GREGORIAN
METHOD:PUBLISH
X-WR-CALNAME:You Me And The Community
X-ORIGINAL-URL:https://ymcommunity.com.au
X-WR-CALDESC:Events for You Me And The Community
REFRESH-INTERVAL;VALUE=DURATION:PT1H
X-Robots-Tag:noindex
X-PUBLISHED-TTL:PT1H
BEGIN:VTIMEZONE
TZID:Australia/Brisbane
BEGIN:STANDARD
TZOFFSETFROM:+1000
TZOFFSETTO:+1000
TZNAME:AEST
DTSTART:20250101T000000
END:STANDARD
END:VTIMEZONE
BEGIN:VEVENT
DTSTART;TZID=Australia/Brisbane:20260601T123000
DTEND;TZID=Australia/Brisbane:20260601T123000
DTSTAMP:20260424T064503
CREATED:20260206T060930Z
LAST-MODIFIED:20260206T060930Z
UID:4047-1780317000-1780317000@ymcommunity.com.au
SUMMARY:DIY Felt Animals
DESCRIPTION:
URL:https://ymcommunity.com.au/event/diy-felt-animals-2/
CATEGORIES:Craft
END:VEVENT
END:VCALENDAR