BEGIN:VCALENDAR
VERSION:2.0
PRODID:-//You Me And The Community - ECPv6.15.20//NONSGML v1.0//EN
CALSCALE:GREGORIAN
METHOD:PUBLISH
X-WR-CALNAME:You Me And The Community
X-ORIGINAL-URL:https://ymcommunity.com.au
X-WR-CALDESC:Events for You Me And The Community
REFRESH-INTERVAL;VALUE=DURATION:PT1H
X-Robots-Tag:noindex
X-PUBLISHED-TTL:PT1H
BEGIN:VTIMEZONE
TZID:Australia/Brisbane
BEGIN:STANDARD
TZOFFSETFROM:+1000
TZOFFSETTO:+1000
TZNAME:AEST
DTSTART:20250101T000000
END:STANDARD
END:VTIMEZONE
BEGIN:VEVENT
DTSTART;TZID=Australia/Brisbane:20260508T180000
DTEND;TZID=Australia/Brisbane:20260508T180000
DTSTAMP:20260424T064509
CREATED:20260206T060755Z
LAST-MODIFIED:20260206T060755Z
UID:4029-1778263200-1778263200@ymcommunity.com.au
SUMMARY:Make Your Own Playdough
DESCRIPTION:
URL:https://ymcommunity.com.au/event/make-your-own-playdough/
CATEGORIES:Social
END:VEVENT
END:VCALENDAR