BEGIN:VCALENDAR
VERSION:2.0
PRODID:-//You Me And The Community - ECPv6.15.20//NONSGML v1.0//EN
CALSCALE:GREGORIAN
METHOD:PUBLISH
X-WR-CALNAME:You Me And The Community
X-ORIGINAL-URL:https://ymcommunity.com.au
X-WR-CALDESC:Events for You Me And The Community
REFRESH-INTERVAL;VALUE=DURATION:PT1H
X-Robots-Tag:noindex
X-PUBLISHED-TTL:PT1H
BEGIN:VTIMEZONE
TZID:Australia/Brisbane
BEGIN:STANDARD
TZOFFSETFROM:+1000
TZOFFSETTO:+1000
TZNAME:AEST
DTSTART:20250101T000000
END:STANDARD
END:VTIMEZONE
BEGIN:VEVENT
DTSTART;TZID=Australia/Brisbane:20260402T123000
DTEND;TZID=Australia/Brisbane:20260402T123000
DTSTAMP:20260424T022840
CREATED:20260206T060207Z
LAST-MODIFIED:20260401T020107Z
UID:3983-1775133000-1775133000@ymcommunity.com.au
SUMMARY:Obstacle Course Beat the Timer
DESCRIPTION:Obstacle Course in Ipswich is an exciting school holiday challenge packed with movement\, laughter\, and all-abilities fun. Race the clock\, build confidence\, and enjoy active community connection at The Legacy Hub. Book now and see if you can beat the timer.
URL:https://ymcommunity.com.au/event/obstacle-course-beat-the-timer/
LOCATION:The Legacy Hub\, Nicholas Street Precinct\, Lower Ground\, 143 Brisbane Street\, Ipswich\, Queensland\, 4305\, Australia
CATEGORIES:Movement
ORGANIZER;CN="Tyler Jones":MAILTO:Info@ymcommunity.com.au
END:VEVENT
END:VCALENDAR