BEGIN:VCALENDAR
VERSION:2.0
PRODID:-//You Me And The Community - ECPv6.15.20//NONSGML v1.0//EN
CALSCALE:GREGORIAN
METHOD:PUBLISH
X-WR-CALNAME:You Me And The Community
X-ORIGINAL-URL:https://ymcommunity.com.au
X-WR-CALDESC:Events for You Me And The Community
REFRESH-INTERVAL;VALUE=DURATION:PT1H
X-Robots-Tag:noindex
X-PUBLISHED-TTL:PT1H
BEGIN:VTIMEZONE
TZID:Australia/Brisbane
BEGIN:STANDARD
TZOFFSETFROM:+1000
TZOFFSETTO:+1000
TZNAME:AEST
DTSTART:20250101T000000
END:STANDARD
END:VTIMEZONE
BEGIN:VEVENT
DTSTART;TZID=Australia/Brisbane:20260422T123000
DTEND;TZID=Australia/Brisbane:20260422T123000
DTSTAMP:20260424T023020
CREATED:20260206T060327Z
LAST-MODIFIED:20260401T024842Z
UID:3993-1776861000-1776861000@ymcommunity.com.au
SUMMARY:Paper Plate Frisbees
DESCRIPTION:Paper Plate Frisbees in Ipswich is a fun craft activity where kids can create\, decorate\, and play with their own handmade frisbees. Enjoy school holiday fun in a safe and welcoming space. Register now and join the creativity.
URL:https://ymcommunity.com.au/event/paper-plate-frisbees/
LOCATION:The Legacy Hub\, Nicholas Street Precinct\, Lower Ground\, 143 Brisbane Street\, Ipswich\, Queensland\, 4305\, Australia
CATEGORIES:Craft
ORGANIZER;CN="Tyler Jones":MAILTO:Info@ymcommunity.com.au
END:VEVENT
END:VCALENDAR