BEGIN:VCALENDAR
VERSION:2.0
PRODID:-//You Me And The Community - ECPv6.15.20//NONSGML v1.0//EN
CALSCALE:GREGORIAN
METHOD:PUBLISH
X-WR-CALNAME:You Me And The Community
X-ORIGINAL-URL:https://ymcommunity.com.au
X-WR-CALDESC:Events for You Me And The Community
REFRESH-INTERVAL;VALUE=DURATION:PT1H
X-Robots-Tag:noindex
X-PUBLISHED-TTL:PT1H
BEGIN:VTIMEZONE
TZID:Australia/Brisbane
BEGIN:STANDARD
TZOFFSETFROM:+1000
TZOFFSETTO:+1000
TZNAME:AEST
DTSTART:20250101T000000
END:STANDARD
END:VTIMEZONE
BEGIN:VEVENT
DTSTART;TZID=Australia/Brisbane:20260402T103000
DTEND;TZID=Australia/Brisbane:20260402T103000
DTSTAMP:20260424T022906
CREATED:20260206T060141Z
LAST-MODIFIED:20260401T020047Z
UID:3980-1775125800-1775125800@ymcommunity.com.au
SUMMARY:Shaving Cream Eggs
DESCRIPTION:Shaving Cream Eggs Easter activity in Ipswich brings messy\, sensory fun to the school holidays with a colourful\, inclusive twist. Perfect for kids who love hands-on creativity in a supportive environment. Register today and join the fun at The Legacy Hub.
URL:https://ymcommunity.com.au/event/shaving-cream-eggs/
LOCATION:The Legacy Hub\, Nicholas Street Precinct\, Lower Ground\, 143 Brisbane Street\, Ipswich\, Queensland\, 4305\, Australia
CATEGORIES:Social
ORGANIZER;CN="Tyler Jones":MAILTO:Info@ymcommunity.com.au
END:VEVENT
END:VCALENDAR