BEGIN:VCALENDAR
VERSION:2.0
PRODID:-//You Me And The Community - ECPv6.15.20//NONSGML v1.0//EN
CALSCALE:GREGORIAN
METHOD:PUBLISH
X-WR-CALNAME:You Me And The Community
X-ORIGINAL-URL:https://ymcommunity.com.au
X-WR-CALDESC:Events for You Me And The Community
REFRESH-INTERVAL;VALUE=DURATION:PT1H
X-Robots-Tag:noindex
X-PUBLISHED-TTL:PT1H
BEGIN:VTIMEZONE
TZID:Australia/Brisbane
BEGIN:STANDARD
TZOFFSETFROM:+1000
TZOFFSETTO:+1000
TZNAME:AEST
DTSTART:20250101T000000
END:STANDARD
END:VTIMEZONE
BEGIN:VEVENT
DTSTART;TZID=Australia/Brisbane:20260420T123000
DTEND;TZID=Australia/Brisbane:20260420T123000
DTSTAMP:20260424T022841
CREATED:20260206T060207Z
LAST-MODIFIED:20260401T024421Z
UID:3987-1776688200-1776688200@ymcommunity.com.au
SUMMARY:Sponge Stamps
DESCRIPTION:Sponge Stamps in Ipswich is a fun and messy art activity perfect for creative kids during the school holidays. Enjoy hands-on painting and colourful fun in a supportive\, all-abilities environment. Register today and get stamping.
URL:https://ymcommunity.com.au/event/sponge-stamps/
LOCATION:The Legacy Hub\, Nicholas Street Precinct\, Lower Ground\, 143 Brisbane Street\, Ipswich\, Queensland\, 4305\, Australia
CATEGORIES:Craft
ORGANIZER;CN="Tyler Jones":MAILTO:Info@ymcommunity.com.au
END:VEVENT
END:VCALENDAR