BEGIN:VCALENDAR
VERSION:2.0
PRODID:-//You Me And The Community - ECPv6.15.20//NONSGML v1.0//EN
CALSCALE:GREGORIAN
METHOD:PUBLISH
X-WR-CALNAME:You Me And The Community
X-ORIGINAL-URL:https://ymcommunity.com.au
X-WR-CALDESC:Events for You Me And The Community
REFRESH-INTERVAL;VALUE=DURATION:PT1H
X-Robots-Tag:noindex
X-PUBLISHED-TTL:PT1H
BEGIN:VTIMEZONE
TZID:Australia/Brisbane
BEGIN:STANDARD
TZOFFSETFROM:+1000
TZOFFSETTO:+1000
TZNAME:AEST
DTSTART:20250101T000000
END:STANDARD
END:VTIMEZONE
BEGIN:VEVENT
DTSTART;TZID=Australia/Brisbane:20260401T123000
DTEND;TZID=Australia/Brisbane:20260401T123000
DTSTAMP:20260424T023006
CREATED:20260206T060141Z
LAST-MODIFIED:20260401T015214Z
UID:3978-1775046600-1775046600@ymcommunity.com.au
SUMMARY:Watercolour Easter Egg Painting
DESCRIPTION:Watercolour Easter Egg Painting in Ipswich is a fun and creative Easter activity for kids\, families\, and all abilities. Enjoy a relaxed\, inclusive session where imagination and colour come together. Register now and join the Easter fun at The Legacy Hub.
URL:https://ymcommunity.com.au/event/watercolour-easter-egg-painting/
LOCATION:The Legacy Hub\, Nicholas Street Precinct\, Lower Ground\, 143 Brisbane Street\, Ipswich\, Queensland\, 4305\, Australia
CATEGORIES:Craft
ORGANIZER;CN="Tyler Jones":MAILTO:Info@ymcommunity.com.au
END:VEVENT
END:VCALENDAR