BEGIN:VCALENDAR
VERSION:2.0
PRODID:-//You Me And The Community - ECPv6.15.20//NONSGML v1.0//EN
CALSCALE:GREGORIAN
METHOD:PUBLISH
X-WR-CALNAME:You Me And The Community
X-ORIGINAL-URL:https://ymcommunity.com.au
X-WR-CALDESC:Events for You Me And The Community
REFRESH-INTERVAL;VALUE=DURATION:PT1H
X-Robots-Tag:noindex
X-PUBLISHED-TTL:PT1H
BEGIN:VTIMEZONE
TZID:Australia/Brisbane
BEGIN:STANDARD
TZOFFSETFROM:+1000
TZOFFSETTO:+1000
TZNAME:AEST
DTSTART:20250101T000000
END:STANDARD
END:VTIMEZONE
BEGIN:VEVENT
DTSTART;TZID=Australia/Brisbane:20260430T123000
DTEND;TZID=Australia/Brisbane:20260430T123000
DTSTAMP:20260424T005727
CREATED:20260206T060414Z
LAST-MODIFIED:20260401T052251Z
UID:10005105-1777552200-1777552200@ymcommunity.com.au
SUMMARY:Crochet Animals
DESCRIPTION:Crochet Animals in Ipswich is a creative activity that brings calm\, focus\, and hands-on fun together in one welcoming session. Perfect for kids and community members who love making something special. Book now and join the craft fun.
URL:https://ymcommunity.com.au/event/crochet-animals/
LOCATION:The Legacy Hub\, Nicholas Street Precinct\, Lower Ground\, 143 Brisbane Street\, Ipswich\, Queensland\, 4305\, Australia
CATEGORIES:Craft
ORGANIZER;CN="Tyler Jones":MAILTO:Info@ymcommunity.com.au
END:VEVENT
BEGIN:VEVENT
DTSTART;TZID=Australia/Brisbane:20260430T153000
DTEND;TZID=Australia/Brisbane:20260430T153000
DTSTAMP:20260424T005727
CREATED:20260206T060414Z
LAST-MODIFIED:20260401T052318Z
UID:10005106-1777563000-1777563000@ymcommunity.com.au
SUMMARY:Balloon Volleyball
DESCRIPTION:Balloon Volleyball in Ipswich is a fun and inclusive activity that keeps everyone moving\, laughing\, and joining in together. It’s perfect for all abilities and school holiday connection. Register now and play with us.
URL:https://ymcommunity.com.au/event/balloon-volleyball/
LOCATION:The Legacy Hub\, Nicholas Street Precinct\, Lower Ground\, 143 Brisbane Street\, Ipswich\, Queensland\, 4305\, Australia
CATEGORIES:Movement
ORGANIZER;CN="Tyler Jones":MAILTO:Info@ymcommunity.com.au
END:VEVENT
BEGIN:VEVENT
DTSTART;TZID=Australia/Brisbane:20260501T103000
DTEND;TZID=Australia/Brisbane:20260501T103000
DTSTAMP:20260424T005727
CREATED:20260206T060414Z
LAST-MODIFIED:20260401T052340Z
UID:10005107-1777631400-1777631400@ymcommunity.com.au
SUMMARY:Puzzle Table
DESCRIPTION:Puzzle Table in Ipswich is a calm and engaging activity where kids and families can work together\, build focus\, and enjoy quiet community connection. Perfect for all abilities at The Legacy Hub. Book now and join the fun.
URL:https://ymcommunity.com.au/event/puzzle-table-4/
LOCATION:The Legacy Hub\, Nicholas Street Precinct\, Lower Ground\, 143 Brisbane Street\, Ipswich\, Queensland\, 4305\, Australia
CATEGORIES:Games
ORGANIZER;CN="Tyler Jones":MAILTO:Info@ymcommunity.com.au
END:VEVENT
BEGIN:VEVENT
DTSTART;TZID=Australia/Brisbane:20260501T123000
DTEND;TZID=Australia/Brisbane:20260501T163000
DTSTAMP:20260424T005727
CREATED:20260206T060430Z
LAST-MODIFIED:20260401T024009Z
UID:10005108-1777638600-1777653000@ymcommunity.com.au
SUMMARY:Red Light Green Light
DESCRIPTION:Red Light Green Light in Ipswich is a fun active game for kids and families looking for school holiday excitement. Enjoy movement\, laughter\, and all-abilities fun in a safe\, welcoming space. Book now and join the action at The Legacy Hub.
URL:https://ymcommunity.com.au/event/red-light-green-light/
LOCATION:The Legacy Hub\, Nicholas Street Precinct\, Lower Ground\, 143 Brisbane Street\, Ipswich\, Queensland\, 4305\, Australia
CATEGORIES:Social
ORGANIZER;CN="Tyler Jones":MAILTO:Info@ymcommunity.com.au
END:VEVENT
BEGIN:VEVENT
DTSTART;TZID=Australia/Brisbane:20260501T153000
DTEND;TZID=Australia/Brisbane:20260501T153000
DTSTAMP:20260424T005727
CREATED:20260206T060430Z
LAST-MODIFIED:20260401T052406Z
UID:10005109-1777649400-1777649400@ymcommunity.com.au
SUMMARY:Jenga
DESCRIPTION:Jenga in Ipswich is a fun game of balance\, skill\, and laughter that’s perfect for school holiday connection and friendly competition. Great for kids\, families\, and all abilities. Register now and see how high you can build.
URL:https://ymcommunity.com.au/event/jenga-3/
LOCATION:The Legacy Hub\, Nicholas Street Precinct\, Lower Ground\, 143 Brisbane Street\, Ipswich\, Queensland\, 4305\, Australia
CATEGORIES:Games
ORGANIZER;CN="Tyler Jones":MAILTO:Info@ymcommunity.com.au
END:VEVENT
BEGIN:VEVENT
DTSTART;TZID=Australia/Brisbane:20260501T180000
DTEND;TZID=Australia/Brisbane:20260501T180000
DTSTAMP:20260424T005727
CREATED:20260206T060430Z
LAST-MODIFIED:20260401T052428Z
UID:10005110-1777658400-1777658400@ymcommunity.com.au
SUMMARY:Mini Disco
DESCRIPTION:Mini Disco in Ipswich is a fun-filled event with music\, movement\, and big smiles for kids of all abilities. Join us for an inclusive dance session full of energy and community spirit. Book now and dance the day away.
URL:https://ymcommunity.com.au/event/mini-disco/
LOCATION:The Legacy Hub\, Nicholas Street Precinct\, Lower Ground\, 143 Brisbane Street\, Ipswich\, Queensland\, 4305\, Australia
CATEGORIES:Movement
ORGANIZER;CN="Tyler Jones":MAILTO:Info@ymcommunity.com.au
END:VEVENT
BEGIN:VEVENT
DTSTART;TZID=Australia/Brisbane:20260625T103000
DTEND;TZID=Australia/Brisbane:20260625T103000
DTSTAMP:20260424T005727
CREATED:20260206T061333Z
LAST-MODIFIED:20260224T041308Z
UID:10005182-1782383400-1782383400@ymcommunity.com.au
SUMMARY:Treasure Hunt
DESCRIPTION:
URL:https://ymcommunity.com.au/event/treasure-hunt/
LOCATION:The Legacy Hub\, Nicholas Street Precinct\, Lower Ground\, 143 Brisbane Street\, Ipswich\, Queensland\, 4305\, Australia
CATEGORIES:Movement
ORGANIZER;CN="Tyler Jones":MAILTO:Info@ymcommunity.com.au
END:VEVENT
END:VCALENDAR